BEGIN:VCALENDAR
VERSION:2.0
PRODID:-//Kritzelpause - ECPv6.15.20//NONSGML v1.0//EN
CALSCALE:GREGORIAN
METHOD:PUBLISH
X-WR-CALNAME:Kritzelpause
X-ORIGINAL-URL:https://kritzelpause.de
X-WR-CALDESC:Veranstaltungen für Kritzelpause
REFRESH-INTERVAL;VALUE=DURATION:PT1H
X-Robots-Tag:noindex
X-PUBLISHED-TTL:PT1H
BEGIN:VTIMEZONE
TZID:Europe/Berlin
BEGIN:DAYLIGHT
TZOFFSETFROM:+0100
TZOFFSETTO:+0200
TZNAME:CEST
DTSTART:20240331T010000
END:DAYLIGHT
BEGIN:STANDARD
TZOFFSETFROM:+0200
TZOFFSETTO:+0100
TZNAME:CET
DTSTART:20241027T010000
END:STANDARD
BEGIN:DAYLIGHT
TZOFFSETFROM:+0100
TZOFFSETTO:+0200
TZNAME:CEST
DTSTART:20250330T010000
END:DAYLIGHT
BEGIN:STANDARD
TZOFFSETFROM:+0200
TZOFFSETTO:+0100
TZNAME:CET
DTSTART:20251026T010000
END:STANDARD
BEGIN:DAYLIGHT
TZOFFSETFROM:+0100
TZOFFSETTO:+0200
TZNAME:CEST
DTSTART:20260329T010000
END:DAYLIGHT
BEGIN:STANDARD
TZOFFSETFROM:+0200
TZOFFSETTO:+0100
TZNAME:CET
DTSTART:20261025T010000
END:STANDARD
END:VTIMEZONE
BEGIN:VEVENT
DTSTART;TZID=Europe/Berlin:20251122T100000
DTEND;TZID=Europe/Berlin:20251122T180000
DTSTAMP:20260423T122929
CREATED:20251008T091542Z
LAST-MODIFIED:20251008T092533Z
UID:1421-1763805600-1763834400@kritzelpause.de
SUMMARY:Wortwelten Buchmesse
DESCRIPTION:Die Wortwelten Buchmesse ist eine große Messe organisiert vom Wreaders Verlag. Dort präsentieren sich Autor*innen\, Verlage\, Self-Publisher*innen\, Dienstleister*innen und Künstler*innen gemeinsam mit ihrern Werken. Jedes Genre ist vertreten und somit ist für jeden was dabei. Kinder zahlen keinen Eintritt und im Vorverkauf kann eine Karte für 5 Euro erstanden werden. 8 Euro kosten sie dann vor Ort.\nDie Kritzelpause wird gemeinsam mit den Autorinnen Leyla Byrd\, Mari Rudolph und Ivy Larsson vorort sein.
URL:https://kritzelpause.de/event/wortwelten-buchmesse/
LOCATION:Stadthalle Hiltrup\, Westfalenstraße 197\, Münster\, 48165\, Germany
ATTACH;FMTTYPE=image/png:https://kritzelpause.de/wp-content/uploads/2025/10/WortwelchenBuchmesse_Logo_1-scaled.png
ORGANIZER;CN="Wreaders Verlag":MAILTO:info@wortwelten-buchmesse.de
END:VEVENT
BEGIN:VEVENT
DTSTART;TZID=Europe/Berlin:20251109T100000
DTEND;TZID=Europe/Berlin:20251109T180000
DTSTAMP:20260423T122929
CREATED:20250505T123636Z
LAST-MODIFIED:20250507T082353Z
UID:1215-1762682400-1762711200@kritzelpause.de
SUMMARY:BuchKidsZauber - Fürstenauer Kinderbuchtag
DESCRIPTION:Dieses Jahr findet zum ersten Mal der BuchKidsZauber – Fürstenauer Kinderbuchtag im ehemaligen Kino der Stadt statt\, welches zu einer Veranstaltungshalle umgebaut wurde. Diese Messe bietet vor allem Kleinverlagen und Selfpublisher-Autor:innen die Möglichkeit\, sich zu zeigen und ihre Bücher zu verkaufen. Zudem finden 35-minütige Lesungen statt und auch für Unterhaltung in Form von kleinen Aktionen für die Kinder ist gesorgt. Schaut vorbei und trefft mich und meine Autorenkolleg:innen in Fürstenau!
URL:https://kritzelpause.de/event/buchkidszauber-fuerstenauer-kinderbuchtag/
LOCATION:Ehemaliges Kino\, Buten Porten 2\, Fürstenau\, Niedersachsen\, 49584\, Germany
CATEGORIES:Messe,Mitmachaktion
ATTACH;FMTTYPE=image/jpeg:https://kritzelpause.de/wp-content/uploads/2025/05/BuchKidsZauber_Logo_klein.jpg
ORGANIZER;CN="BuchKidsHarz e. V.":MAILTO:info@buchkidsharz.de
END:VEVENT
BEGIN:VEVENT
DTSTART;VALUE=DATE:20251022
DTEND;VALUE=DATE:20251024
DTSTAMP:20260423T122929
CREATED:20251008T092004Z
LAST-MODIFIED:20251008T092004Z
UID:1430-1761091200-1761263999@kritzelpause.de
SUMMARY:Lesung in der Kita Laubfrösche
DESCRIPTION:Zwei Gruppen\, Zwei Tage – Die erste Kita-Lesung von „Magus der Magische – Hawell’mug und Hexenwerk“ findet kurz vor Halloween statt und zeigt der kleinen Zuhörerschaft\, was es eigentlich mit Hexen so auf sich hat.
URL:https://kritzelpause.de/event/lesung-in-der-kita-laubfroesche/
LOCATION:Kita Laubfrösche\, Riensberger Str. 89\, Bremen\, 28359\, Germany
END:VEVENT
END:VCALENDAR